BEGIN:VCALENDAR
VERSION:2.0
PRODID:Events Booking
BEGIN:VEVENT
UID:69e7abe31f023
SUMMARY:Chapter Meeting Frankfurt - W. Lorenz: Verschwendung in Projekten/ 
 K.-H. Hellmann: Wie steuere ich Chaos
DESCRIPTION:Waldemar Lorenz:&nbsp\;Verschwendung in Projekten
 Karl-Heinz 
 Hellmann: Chaos in Projekten
 Kostenfrai nur für Chapter-Mitglieder
LOCATION:Kasseler Straße 1A \, Frankfurt am Main\, 60486 Hessen\, Deutschl
 and
DTSTART:20220926T160000Z
DTEND:20220926T183000Z
DTSTAMP:20220701T073649Z
ORGANIZER;CN=PMI Germany Chapter e.V.:MAILTO:website@pmi-gc.de
GEO:50.120773;8.637514
X-APPLE-STRUCTURED-LOCATION;VALUE=URI;X-ADDRESS=Kasseler Straße 1A \, Fran
 kfurt am Main\, 60486 Hessen\, Deutschland;X-APPLE-RADIUS=72;X-TITLE=KA-ei
 ns im Ökohaus:50.120773;8.637514
END:VEVENT
END:VCALENDAR