BEGIN:VCALENDAR
VERSION:2.0
PRODID:Events Booking
BEGIN:VEVENT
UID:69e90a4d3c8e8
SUMMARY:Schluss mit Ressourcenengpässen: Cleveres Projekt-Onboarding
DESCRIPTION:Die Local Group Berlin/Brandenburg lädt ein zu einem inspirier
 enden lunch-and-learn zum Thema „Schluss mit Ressourcenengpässen: Cleve
 res Projekt-Onboarding“
 Das PMI Germany präsentiert zusammen mit unse
 rem Partner Blue Ant das Webinar zum Dauerthema Ressourcenmanagement: Denn
  Projekte scheitern in der Praxis weitaus häufiger an fehlenden Ressource
 n als an fehlerhaften Planungen. Das gesamte Projektkonstrukt fällt in si
 ch zusammen\, wenn die angenommenen Ressourcen nicht zur Verfügung stehen
 . Wer glaubt\, das Problem mit einem einzig auf Projekte ausgerichteten Re
 ssourcenmanagement in den Griff zu bekommen\, wird schnell feststellen\, d
 ass dies nicht genügt.
DTSTART:20240925T090000Z
DTEND:20240925T100000Z
DTSTAMP:20240806T161502Z
ORGANIZER;CN=PMI Germany Chapter e.V.:MAILTO:website@pmi-gc.de
END:VEVENT
END:VCALENDAR