BEGIN:VCALENDAR
VERSION:2.0
PRODID:Events Booking
BEGIN:VEVENT
UID:69e80b2875ee6
SUMMARY:Chapter-Meeting Frankfurt September 2025
DESCRIPTION:Es ist dem PMI Region Central eine große Freude wieder bei Ern
 st &amp\; Young in Eschborn Gast sein zu dürfen. Der Abend wird gestaltet
  durch zwei Vorträge mit anschliessender Diskussion\, unterbrochen durch 
 eine Pause mit der Möglichkeit zu Netzwerken.1. Stefan Knappmann:&nbsp\;K
 I im Klartext: Ihr persönlicher Vorteil im Beruf und Alltag
 Die Künstl
 iche Intelligenz verändert unsere Welt tiefgreifender und schneller als j
 ede Technologie zuvor. Dieser Vortrag ist Ihr Kompass in dieser neuen Ära
 .&nbsp\;
 Stefan Knappmann ist seit 25 Jahren in der IT und Finanzbranche
  als Team Leiter\, Projekt Manager und Entwickler aktiv.&nbsp\;
 2. Mithu
 n A. Sridharan:&nbsp\;Mayday! Mayday! Entscheidungsfindung unter Druck
 I
 n der heutigen turbulenten Geschäftswelt sind geopolitische Krisen\, Mark
 tschwankungen und disruptive Technologien an der Tagesordnung. Die Fähigk
 eit\, kritische Entscheidungen unter Druck zu treffen\, ist daher keine Op
 tion mehr\, sondern eine entscheidende Führungsqualität.
 Der Vortrag w
 ird auf Englisch gehalten.
 Mithun A. Sridharan ist Management Berater\, 
 Autor und Speaker\, mit über 22 Jahren branchenübergreifender Erfahrung 
 in in der Beratung von CxOs in globalen Unternehmen.
 &nbsp\;Die Teilnahm
 e ist kostenlos. Teilnehmer der Veranstaltung erhalten 2 PDUs.
 Fragen zu
 r Veranstaltung bitte an: matthias.koll@pmi-gc.de&nbsp\;
LOCATION:Mergenthalerallee 3-5\, Eschborn\, 65760 Hessen\, Deutschland
DTSTART:20250916T160000Z
DTEND:20250916T190000Z
DTSTAMP:20250409T171307Z
ORGANIZER;CN=PMI Germany Chapter e.V.:MAILTO:website@pmi-gc.de
GEO:50.132784;8.56694
X-APPLE-STRUCTURED-LOCATION;VALUE=URI;X-ADDRESS=Mergenthalerallee 3-5\, Esc
 hborn\, 65760 Hessen\, Deutschland;X-APPLE-RADIUS=72;X-TITLE=Ernst & Young
  Eschborn:50.132784;8.56694
END:VEVENT
END:VCALENDAR