BEGIN:VCALENDAR
VERSION:2.0
PRODID:Events Booking
BEGIN:VEVENT
UID:69e8a4f01b379
SUMMARY:Allgemeine PM-CoP: Deep Dive \"Integrating Organizational Change Ma
 nagement into Project Management\" (8)
DESCRIPTION:Täglich werden wir in Projekten neuen Herausforderungen gegen
 übergestellt. Mit dieser CoP wollen wir branchenübergreifend verschieden
 ste Themen aus dem weiten Feld des Projektmanagements per \"Deep Dive\" n
 äher beleuchten und neuartige Ansätze zur Bewältigung jener Fragestellu
 ngen entwickeln\, sowie ggf. auch in Vorträgen und Artikeln veröffentlic
 hen.
 In diesem Meeting wollen wir das Thema \"Integrating Organizational
  Change Management into Project Management\" näher untersuchen.&nbsp\;
 
 Insbesondere soll an einer Guideline für Projektmanager weitergearbeitet 
 werden\, in der wichtige Checkpunkte bezüglich integration von Change Man
 agement aufgelistet werden.&nbsp\;
 &nbsp\;
 &nbsp\;
 &nbsp\;
DTSTART:20250204T183000Z
DTEND:20250204T193000Z
DTSTAMP:20240621T184006Z
ORGANIZER;CN=PMI Germany Chapter e.V.:MAILTO:website@pmi-gc.de
END:VEVENT
END:VCALENDAR