BEGIN:VCALENDAR
VERSION:2.0
PRODID:Events Booking
BEGIN:VEVENT
UID:69e92fbaded0e
SUMMARY:Allgemeine PM-CoP Kick-Off-Meeting
DESCRIPTION:Täglich werden wir in Projekten neuen Herausforderungen gegen
 übergestellt. Mit dieser CoP wollen wir branchenübergreifend verschieden
 ste Themen aus dem weiten Feld des Projektmanagements per \"Deep Dive\" n
 äher beleuchten und neuartige Ansätze zur Bewältigung jener Fragestellu
 ngen entwickeln\, sowie ggf. auch in Vorträgen und Artikeln veröffentlic
 hen.
 In unserem Kick-Off-Meeting wollen wir uns kennenrlernen und ein er
 stes Thema finden\, welches wir vorbereiten wollen. Die ersten Vorschläge
  gibt es schon.
 &nbsp\;
 &nbsp\;
DTSTART:20240704T170000Z
DTEND:20240704T180000Z
DTSTAMP:20240621T184006Z
ORGANIZER;CN=PMI Germany Chapter e.V.:MAILTO:website@pmi-gc.de
END:VEVENT
END:VCALENDAR