BEGIN:VCALENDAR
VERSION:2.0
PRODID:Events Booking
BEGIN:VEVENT
UID:69e7f303571b0
SUMMARY:Workshop KI im Projektmanagement - Projektinitiierung 
DESCRIPTION:Workshop zur Entwicklung von Artefakten der Projektinitiierung:
  Project Charter\, Stakeholder-Register\, High-Level Risikoübersicht.
DTSTART:20251021T160000Z
DTEND:20251021T180000Z
DTSTAMP:20250909T060924Z
ORGANIZER;CN=PMI Germany Chapter e.V.:MAILTO:website@pmi-gc.de
END:VEVENT
END:VCALENDAR