BEGIN:VCALENDAR
VERSION:2.0
PRODID:Events Booking
BEGIN:VEVENT
UID:69e8ba0214367
SUMMARY:CoP Pragmatisches Multiprojektmanagement für KMU: Kickoff-Sitzung
DESCRIPTION:CoP Pragmatisches Multiprojektmanagement für KMU: Kickoff-Sitz
 ung
DTSTART:20250114T160000Z
DTEND:20250114T173000Z
DTSTAMP:20240621T184006Z
ORGANIZER;CN=PMI Germany Chapter e.V.:MAILTO:website@pmi-gc.de
END:VEVENT
END:VCALENDAR