BEGIN:VCALENDAR
VERSION:2.0
PRODID:Events Booking
BEGIN:VEVENT
UID:69e970afd182b
SUMMARY:CoP Life Sciences  Roadmap Workshop
DESCRIPTION:Nach unserem ersten Event\, dem CoP Life-Sciences Kick-Off Meet
 ing\, haben wir die Ideen der Teilnehmer als Grundlage für den Roadmap-Wo
 rkshop genommen und weiterentwickelt. Wir möchten euch diese überarbeite
 te Map präsentieren und weitere Ideen sammeln\, um Fokusthemen für zukü
 nftige spannende Veranstaltungen und Publikationen zu finden.
DTSTART:20240422T163000Z
DTEND:20240422T180000Z
DTSTAMP:20240407T183844Z
ORGANIZER;CN=PMI Germany Chapter e.V.:MAILTO:website@pmi-gc.de
END:VEVENT
END:VCALENDAR