BEGIN:VCALENDAR
VERSION:2.0
PRODID:Events Booking
BEGIN:VEVENT
UID:69e90abb70ae6
SUMMARY:AI\, Agile\, and R&D in Life Sciences\; CoP Event-Group working pro
 ject
DESCRIPTION:Kürzlich haben wir in der CoP Life Sciences eine neue Initiati
 ve gestartet\, um in drei Arbeitsgruppen aktuelle Themen von großem Inter
 esse zu bearbeiten: Projektmanagement in Produktentwicklung\, Agile und KI
 . In diesem Event wird jedes Team seine Ergebnisse vorstellen.Link zu unse
 rer Aktivität : https://www.pmi-gc.de/en/news-eng/1216-community-of-pract
 ice-cop-life-sciences---a-new-initiative-has-started
DTSTART:20240926T163000Z
DTEND:20240926T180000Z
DTSTAMP:20240811T123016Z
ORGANIZER;CN=PMI Germany Chapter e.V.:MAILTO:website@pmi-gc.de
END:VEVENT
END:VCALENDAR