BEGIN:VCALENDAR
VERSION:2.0
PRODID:Events Booking
BEGIN:VEVENT
UID:69e8a8fe6c8c6
SUMMARY:\"Digitalisierung – Strategie und Projekte\" - LG Ruhrgebiet meet
 s LG Karlsruhe
DESCRIPTION:Die PMI Local Group Ruhrgebiet und die PMI Local Group Karlsruh
 e laden Euch herzlich zu einem spannenden gemeinsamen Crossover-Event ein!
 
 Taucht ein in die Welt der Digitalisierung und erfahrt\, wie eine durch
 dachte Strategie den Erfolg von Projekten maßgeblich beeinflussen kann.

  Marcel Wirtz\, erfahrener Projektmanagement-Experte und Co-Lead der PMI L
 ocal Group Karlsruhe\, wird uns durch dieses hochaktuelle Thema führen.
DTSTART:20250211T170000Z
DTEND:20250211T190000Z
DTSTAMP:20241222T102216Z
ORGANIZER;CN=PMI Germany Chapter e.V.:MAILTO:website@pmi-gc.de
END:VEVENT
END:VCALENDAR