BEGIN:VCALENDAR
VERSION:2.0
PRODID:Events Booking
BEGIN:VEVENT
UID:69e890ede5aca
SUMMARY:Aktuelle Herausforderungen im Projektgeschäft bei der Umsetzung vo
 n DORA
DESCRIPTION:Seit dem 17. Januar 2025 ist die Umsetzung der gesetzlichen Anf
 orderungen aus dem Digital Resilience Act (DORA) für Institute der Finanz
 branche und deren IT-Dienstleister verpflichtend. Insbesondere sind Verfah
 ren und Methoden für das IKT-Risikomanagement\, das Melden schwerwiegende
 r Vorfälle\, das Testen der Digitalen Resilienz sowie das IKT-Drittpartei
 enmanagement zu etablieren und deren Wirksamkeit nachzuweisen
LOCATION:Arnulfstraße 59\, München\, 80636 Bayern\, Deutschland
DTSTART:20250320T170000Z
DTEND:20250320T183000Z
DTSTAMP:20250209T100311Z
ORGANIZER;CN=PMI Germany Chapter e.V.:MAILTO:website@pmi-gc.de
GEO:48.145553;11.538317
X-APPLE-STRUCTURED-LOCATION;VALUE=URI;X-ADDRESS=Arnulfstraße 59\, München
 \, 80636 Bayern\, Deutschland;X-APPLE-RADIUS=72;X-TITLE=Ernst & Young\, M
 ünchen:48.145553;11.538317
END:VEVENT
END:VCALENDAR