BEGIN:VCALENDAR
VERSION:2.0
PRODID:Events Booking
BEGIN:VEVENT
UID:69e809bc41448
SUMMARY:English BookClub 2025 September
DESCRIPTION:Diese Veranstaltung ist in Englischer Sprache
 In diesem Monat
  geht es um eine der wertvollsten Kompetenzen für Projektexperten: Gesch
 äftssinn. Begleiten Sie unsere Gastgeberin Liz Hector\, wenn wir erkunden
 \, wie strategisches Denken\, ein Bewusstsein für das große Ganze und ei
 ne wertorientierte Entscheidungsfindung Ihre Führungsqualitäten und Ihre
 n Einfluss in jeder Organisation steigern können.September-Lesethema: Ihr
 e nächsten fünf Schritte von Patrick Bet-DavidIn diesem Buch geht es dar
 um\, fünf Schritte voraus zu sein. Wie man sich Klarheit über seine Iden
 tität verschafft\, eine effektive Strategie entwickelt\, sein Unternehmen
  skaliert und die Entscheidungsfindung unter Druck meistert. Das Buch verb
 indet Denkweise\, taktische Planung und Führungsentwicklung\, um ehrgeizi
 gen Fachleuten dabei zu helfen\, sich durch überlegtes und visionäres Ha
 ndeln weiterzuentwickeln.
 Richten Sie bitte alle Frangen an Martin.Bertr
 am@pmi-gc.de
DTSTART:20250919T093000Z
DTEND:20250919T110000Z
DTSTAMP:20250506T145100Z
ORGANIZER;CN=PMI Germany Chapter e.V.:MAILTO:website@pmi-gc.de
END:VEVENT
END:VCALENDAR