BEGIN:VCALENDAR
VERSION:2.0
PRODID:Events Booking
BEGIN:VEVENT
UID:69e9712382deb
SUMMARY:English Round Table Frankfurt April 2024
DESCRIPTION:English Round Table Frankfurt April 2024
 PMI Round Table on P
 roject Management topic
 30.04.2024 18:30 - 20:30
 Dear PM enthusiasts\,
  members of PMI and friends\,
 Greetings and here's the invite to the nex
 t English Round Table for the project management professionals living in a
 nd around the city of Frankfurt. With this event we intend to facilitate e
 xchange between PMs\, and we will talk about Project &amp\; Program Manage
 ment related topic in the Organization.
 This meeting will allow you to d
 iscuss on any of the project management related topic or questions in your
  project\, program\, organization\, or your day-to-day activities. Our vol
 unteer team from the Germany Chapter will be available to facilitate the d
 iscussion.
LOCATION:Weckmarkt\, Frankfurt\, 60311 Hesse\, Germany
DTSTART:20240430T163000Z
DTEND:20240430T183000Z
DTSTAMP:20240425T180941Z
ORGANIZER;CN=PMI Germany Chapter e.V.:MAILTO:website@pmi-gc.de
GEO:50.110209;8.685693
X-APPLE-STRUCTURED-LOCATION;VALUE=URI;X-ADDRESS=Weckmarkt\, Frankfurt\, 603
 11 Hesse\, Germany;X-APPLE-RADIUS=72;X-TITLE=Metropol:50.110209;8.685693
END:VEVENT
END:VCALENDAR