BEGIN:VCALENDAR
VERSION:2.0
PRODID:Events Booking
BEGIN:VEVENT
UID:69e930465abd0
SUMMARY:ENGLISH ROUND TABLE FRANKFURT JULY 2024
DESCRIPTION:English Round Table Frankfurt July 2024
 PMI Round Table on Pr
 oject Management topic
 30.07.2024 18:30 - 20:30
 Dear PM enthusiasts\, 
 members of PMI and friends\,
 Greetings and here's the invite to the next
  English Round Table for the project management professionals living in an
 d around the city of Frankfurt. With this event we intend to facilitate ex
 change between PMs\, and we will talk about Project &amp\; Program Managem
 ent related topic in the Organization.
 This meeting will allow you to di
 scuss on any of the project management related topic or questions in your 
 project\, program\, organization\, or your day-to-day activities. Our volu
 nteer team from the Germany Chapter will be available to facilitate the di
 scussion.
 Note that the event will take place in English.
LOCATION:Weckmarkt\, Frankfurt\, 60311 Hesse\, Germany
DTSTART:20240730T163000Z
DTEND:20240730T183000Z
DTSTAMP:20240724T065843Z
ORGANIZER;CN=PMI Germany Chapter e.V.:MAILTO:website@pmi-gc.de
GEO:50.110209;8.685693
X-APPLE-STRUCTURED-LOCATION;VALUE=URI;X-ADDRESS=Weckmarkt\, Frankfurt\, 603
 11 Hesse\, Germany;X-APPLE-RADIUS=72;X-TITLE=Metropol:50.110209;8.685693
END:VEVENT
END:VCALENDAR