BEGIN:VCALENDAR
VERSION:2.0
PRODID:Events Booking
BEGIN:VEVENT
UID:69e8651702586
SUMMARY:LG Berlin: Problem-Solving for Efficient Project Management
DESCRIPTION:The Local Group Berlin / Brandenburg invites you to3rd round ta
 ble (in English) in a great atmosphereTopic: Problem-Solving for Efficient
  Project ManagementJoin us on May 16th for an engaging evening at Arden Un
 iversity.This is an excellent opportunity to sharpen your problem-solving 
 skills\, share insights\, expand your network and earn PDUs.
LOCATION:Dessauer Straße 3-5\, Berlin\, 10963\, Deutschland
DTSTART:20250516T160000Z
DTEND:20250516T180000Z
DTSTAMP:20250329T144101Z
ORGANIZER;CN=PMI Germany Chapter e.V.:MAILTO:website@pmi-gc.de
GEO:52.506224;13.378574
X-APPLE-STRUCTURED-LOCATION;VALUE=URI;X-ADDRESS=Dessauer Straße 3-5\, Berl
 in\, 10963\, Deutschland;X-APPLE-RADIUS=72;X-TITLE=Arden University:52.506
 224;13.378574
END:VEVENT
END:VCALENDAR