BEGIN:VCALENDAR
VERSION:2.0
PRODID:Events Booking
BEGIN:VEVENT
UID:69e8f71fe5d79
SUMMARY:LG Berlin: English round table
DESCRIPTION:The Local Group Berlin / Brandenburg invites you to 1st round t
 able in a great atmosphere and classic location&nbsp\;
 We are thrilled t
 o invite you to a PMI Roundtable Session (English-speaking)\, an evening d
 edicated to exchanging insights and networking with fellow project managem
 ent enthusiasts in the Berlin-Brandenburg area.
 Join us for a lively cha
 t on why research and innovation are key in project management. This is a 
 fantastic opportunity to share your experiences\, learn from others\, and 
 expand your professional network.Whether you're a seasoned project manager
  or just starting in the field\, this roundtable session is designed to pr
 ovide value for all. Let's come together to foster a vibrant project manag
 ement community in Berlin-Brandenburg.
 
LOCATION:Poststraße 26\, Berlin\, 10178\, Deutschland
DTSTART:20241004T160000Z
DTEND:20241004T180000Z
DTSTAMP:20240902T153824Z
ORGANIZER;CN=PMI Germany Chapter e.V.:MAILTO:website@pmi-gc.de
GEO:52.516419;13.406377
X-APPLE-STRUCTURED-LOCATION;VALUE=URI;X-ADDRESS=Poststraße 26\, Berlin\, 1
 0178\, Deutschland;X-APPLE-RADIUS=72;X-TITLE=Fischer and Lustig:52.516419;
 13.406377
END:VEVENT
END:VCALENDAR