BEGIN:VCALENDAR
VERSION:2.0
PRODID:Events Booking
BEGIN:VEVENT
UID:69e8fa13b8c19
SUMMARY:Transformationsprozesse im Unternehmen
DESCRIPTION:Liebe Mitglieder und Interessierte der PMI Local Group Karlsruh
 e\,Es ist wieder Zeit für unseren nächsten Stammtisch der PMI Local Grou
 p Karlsruhe\, und dieses Mal erwartet euch ein spannendes Thema\, das uns 
 alle bewegt: \"Transformationsprozesse im Unternehmen\".
LOCATION:Lorbeerweg 24 Karlsruhe\, 76149 Baden-Württemberg\, Deutschland
DTSTART:20241029T170000Z
DTEND:20241029T200000Z
DTSTAMP:20240902T064634Z
ORGANIZER;CN=PMI Germany Chapter e.V.:MAILTO:website@pmi-gc.de
GEO:49.036727;8.394245
X-APPLE-STRUCTURED-LOCATION;VALUE=URI;X-ADDRESS=Lorbeerweg 24 Karlsruhe\, 7
 6149 Baden-Württemberg\, Deutschland;X-APPLE-RADIUS=72;X-TITLE=Moxy-Hotel
  Karlsruhe:49.036727;8.394245
END:VEVENT
END:VCALENDAR