BEGIN:VCALENDAR
VERSION:2.0
PRODID:Events Booking
BEGIN:VEVENT
UID:69e82257327c1
SUMMARY:LG Leipzig: Workshop “Raus aus dem Erschöpfungsmodus“
DESCRIPTION:Die Local Group Leipzig lädt ein zu zwei Workshops – frei ko
 mbinierbar
 Wir bieten zwei thematisch aufeinander abgestimmte\, aber una
 bhängige Workshops an. Sie können einen oder beide Workshops besuchen 
 – ganz wie es für Sie passt. Jeder Workshop ist in sich abgeschlossen u
 nd bietet wertvolle Inhalte\, auch ohne Teilnahme am anderen.
 Inhalt:Rau
 s aus dem Erschöpfungsmodus. So wird dein Kalender zur Kraftquelle.
DTSTART:20250811T160000Z
DTEND:20250811T180000Z
DTSTAMP:20250702T120219Z
ORGANIZER;CN=PMI Germany Chapter e.V.:MAILTO:website@pmi-gc.de
END:VEVENT
END:VCALENDAR