BEGIN:VCALENDAR
VERSION:2.0
PRODID:Events Booking
BEGIN:VEVENT
UID:69e8fc805c8a3
SUMMARY:„Face Map Reading“ -  die Bedeutung all unserer Kompetenzen
DESCRIPTION:„Face Map Reading“ von bq-faces: Die Bedeutung der Kompeten
 zen im Zusammenhang mit lateraler Führungsverantwortung im Projektmanagem
 ent.
 In Zeiten knapper werdender personeller Ressourcen und erhöhten Ri
 sikomanagements in Unternehmen wird es immer wichtiger\, Herausforderungen
  im Markt und im Unternehmen ehrlich und performanceorientiert anzugehen. 
 Dieses Tool bietet eine neue Dimension der zielgerichteten Ansprache von T
 eammitgliedern.
DTSTART:20241008T160000Z
DTEND:20241008T180000Z
DTSTAMP:20240113T065127Z
ORGANIZER;CN=PMI Germany Chapter e.V.:MAILTO:website@pmi-gc.de
END:VEVENT
END:VCALENDAR