BEGIN:VCALENDAR
VERSION:2.0
PRODID:Events Booking
BEGIN:VEVENT
UID:69e850a0027f6
SUMMARY:LG Berlin: \"Falsche Erinnerung\"
DESCRIPTION:Die Local Group Berlin/Brandenburg lädt ein zu einem Vortrag 
 über „Falsche Erinnerungen“Dein Gedächtnis ist genial. Nur leider ni
 cht zuverlässig.In diesem inspirierenden und unterhaltsamen Impulsvortrag
  nimmt dich Projektmanagement-Expertin Saskia Hablasch mit in die faszinie
 rende Welt unseres Gedächtnisses – und zeigt dir\, warum Projekterfolg 
 nicht nur von Tools\, sondern oft von ganz kleinen Kommunikationsroutinen 
 abhängt.Anhand echter Geschichten aus ihrer Projektpraxis erklärt Saskia
 \, wie schnell aus klaren Absprachen Missverständnisse werden – und wie
  du das vermeiden kannst.
DTSTART:20250617T153000Z
DTEND:20250617T163000Z
DTSTAMP:20250415T081912Z
ORGANIZER;CN=PMI Germany Chapter e.V.:MAILTO:website@pmi-gc.de
END:VEVENT
END:VCALENDAR