BEGIN:VCALENDAR
VERSION:2.0
PRODID:Events Booking
BEGIN:VEVENT
UID:69e8e0c849b35
SUMMARY:Closing of Mentoring Programme 2024 
DESCRIPTION:
DTSTART:20241119T180000Z
DTEND:20241119T190000Z
DTSTAMP:20241101T114457Z
ORGANIZER;CN=PMI Germany Chapter e.V.:MAILTO:website@pmi-gc.de
END:VEVENT
END:VCALENDAR