BEGIN:VCALENDAR
VERSION:2.0
PRODID:Events Booking
BEGIN:VEVENT
UID:69e7d9ef56072
SUMMARY:LG Thüringen: „Fuck-up Sessions“ – aus Fehlern lernen
DESCRIPTION:Die Local Group Thüringen des PMI Germany Chapterslädt Sie ei
 n zum Thema „Fuck-up Sessions“ – aus Fehlern lernen
 Jeder von uns 
 kennt Projekte\, die nicht so liefen\, wie geplant. Genau diese Erfahrunge
 n wollen wir miteinander teilen – offen\, ehrlich und kollegial. Ziel is
 t es\, voneinander zu lernen\, wie wir mit Herausforderungen\, Stolperstei
 nen und Rückschlägen im Projektmanagement umgehen.Bitte bereitet mindest
 ens ein Projektbeispiel vor\, das ihr vorstellen möchtet. Ob kleine Anekd
 ote oder großes Scheitern – alles ist willkommen.
LOCATION:Gustav-Weißkopf-Straße 3-7\, 99092 Erfurt\, Thüringen
DTSTART:20251113T170000Z
DTEND:20251113T181500Z
DTSTAMP:20250923T132956Z
ORGANIZER;CN=PMI Germany Chapter e.V.:MAILTO:website@pmi-gc.de
GEO:50.972306;10.961459
X-APPLE-STRUCTURED-LOCATION;VALUE=URI;X-ADDRESS=Gustav-Weißkopf-Straße 3-
 7\, 99092 Erfurt\, Thüringen;X-APPLE-RADIUS=72;X-TITLE=Bechtle Managed Se
 rvices GmbH :50.972306;10.961459
END:VEVENT
END:VCALENDAR