BEGIN:VCALENDAR
VERSION:2.0
PRODID:Events Booking
BEGIN:VEVENT
UID:69e7b2addda86
SUMMARY:Germany Chapter Meeting München Januar 2023 - Thema \"Konflikte im
  Projektgeschäft\" - kostenlose Präsenzveranstaltung
DESCRIPTION:Wir gehen wieder in Präsenz! – Nehmen Sie an unserem Chapter
  Meeting als&nbsp\;kostenlose Auftaktveranstaltung im Neuen Jahr mit Verk
 östigung am 30. Januar 2023 von 19.00 Uhr bis 22.00 Uhr&nbsp\;teil und ve
 rpassen nicht die Ansprache unseres Präsidenten Dr. Andreas Berning sowie
  den spannenden Vortrag von Oliver F. Lehmann zum Thema „Konflikte im Pr
 ojektgeschäft“.
 Sie sind aktiv mit dabei\, im smartvillage - Schwanth
 alerhöhe\, München. In einer Break-out-Session nach dem Vortrag diskutie
 ren Sie miteinander und präsentieren im Anschluss Ihre Ergebnisse.
 Meld
 en Sie sich gleich an und sichern sich damit 3 PDU!
 &nbsp\;
 &nbsp\;
LOCATION:Ganghoferstraße\, München\, 80339 Bayern\, Deutschland
DTSTART:20230130T180000Z
DTEND:20230130T210000Z
DTSTAMP:20221222T190038Z
ORGANIZER;CN=PMI Germany Chapter e.V.:MAILTO:website@pmi-gc.de
GEO:48.130603;11.537817
X-APPLE-STRUCTURED-LOCATION;VALUE=URI;X-ADDRESS=Ganghoferstraße\, München
 \, 80339 Bayern\, Deutschland;X-APPLE-RADIUS=72;X-TITLE=smartvillage Schwa
 nthalerhöhe München:48.130603;11.537817
END:VEVENT
END:VCALENDAR