BEGIN:VCALENDAR
VERSION:2.0
PRODID:Events Booking
BEGIN:VEVENT
UID:69e7c3124c5ab
SUMMARY:PMI European Inter-Chapter Webinar Series - Part 1 - Mastering Inte
 rgenerational Relationships - Stan Phelps 
DESCRIPTION:PMI European Interchapter Webinar Series&nbsp\;\"Aufbau leistun
 gsstarker Führungskräfte von morgen\"
 
 Part 1 - Mastering Inter-gene
 rational Relationships &nbsp\;Wir freuen uns\, anzukündigen\, dass das PM
 I France Chapter\, das PMI Germany Chapter und das PMI UK Chapter am 13. u
 nd 20. September um 19.00 Uhr CEST eine online Inter-Chapter Webinar-Reihe
  veranstalten werden\, um Projektmanagern\, insbesondere zukünftigen\, da
 bei zu helfen\, diese entscheidenden Fähigkeiten weiterzuentwickeln und H
 igh-Performance-Leader zu werden.&nbsp\;Unser internationaler Sprecher Sta
 n Phelps CSP\, Bestsellerautor\, Gründer von StanPhelpsSpeaks.com\, TEDx 
 Speaker\, IBM Futurist und Forbes-Kolumnist.
 &nbsp\;
 Link zur Registri
 erung:&nbsp\;Part 1 - Mastering Inter-generational Relationships - Stan Ph
 elps - European PMI Interchapter Webinar Series&nbsp\;
 https://pmiuk.in/
 StanPhelps1&nbsp\;
DTSTART:20230913T170000Z
DTEND:20230913T183000Z
DTSTAMP:20230601T134435Z
ORGANIZER;CN=PMI Germany Chapter e.V.:MAILTO:website@pmi-gc.de
END:VEVENT
END:VCALENDAR