BEGIN:VCALENDAR
VERSION:2.0
PRODID:Events Booking
BEGIN:VEVENT
UID:69e7750b0fbb2
SUMMARY:KICKOFF: YOUTH EMPOWERMENT PROGRAM
DESCRIPTION:Was ist das Youth Empowerment Programm (YEP)?
 
 Das YEP-Prog
 ramm ist eine Aktivität zur Förderung junger Talente im Projektmanagemen
 t\, die im Rahmen der Diversity-Initiative des PMI Germany Chapter e.V. im
  Jahr 2023 startet.Das Programm richtet sich an alle jungen Talente\, die 
 sich fürs Projektmanagement interessieren\, egal ob Du Deine PM-Karriere 
 starten willst oder Unterstützung auf dem Weg dorthin benötigst.
 
DTSTART:20240515T170000Z
DTEND:20240515T183000Z
DTSTAMP:20240324T093446Z
ORGANIZER;CN=PMI Germany Chapter e.V.:MAILTO:website@pmi-gc.de
END:VEVENT
END:VCALENDAR