BEGIN:VCALENDAR
VERSION:2.0
PRODID:Events Booking
BEGIN:VEVENT
UID:69e95ade276b8
SUMMARY:Klimapuzzle - Climate Fresk Mai 2024
DESCRIPTION:Der Kampf gegen den Klimawandel ist eine globale Herausforderun
 g. Treibhausgase machen nicht an Grenzen halt\, daher liegt es in der Vera
 ntwortung jedes Einzelnen\, die Menge\, die wir ausstoßen\, zu reduzieren
 .Derzeit läuft eine europäische\, PMI-Chapterübergreifende Initiative\,
  um das Bewusstsein für die Klimakrise zu stärken.Weitere Informationen 
 finden Sie unter:&nbsp\;https://climatefresk.org&nbsp\;oder&nbsp\;https://
 klimapuzzle.de/
 Du bist herzlich dazu eingeladen\, dieses spannende und 
 wirkungsvolle Format zu entdecken. Leiste einen Beitrag gegen den Klimawan
 del mit Deiner Teilnahme am Klima Puzzle!
 Wenn Du Interesse hast\, an di
 esem Workshop teilzunehmen\, melde Dich sich bitte an:
 https://associati
 on.climatefresk.org/training_sessions/6da9484a-bc43-4fea-b38d-45ecdc7b0a30
 /show_public?language=en&amp\;tenant_token=36bd2274d3982262c0021755
DTSTART:20240511T130000Z
DTEND:20240511T160000Z
DTSTAMP:20240420T132033Z
ORGANIZER;CN=PMI Germany Chapter e.V.:MAILTO:website@pmi-gc.de
END:VEVENT
END:VCALENDAR