BEGIN:VCALENDAR
VERSION:2.0
PRODID:Events Booking
BEGIN:VEVENT
UID:69e971584b855
SUMMARY:Kreativität in der Ära von KI
DESCRIPTION:Die Local Group Berlin/Brandenburg lädt ein zu einem spannende
 n Vortragsabend zum Thema
 Kreativität in der Ära von KI
 Tauchen Sie 
 gemeinsam mit uns in die faszinierende Welt der künstlichen Intelligenz e
 in und lassen Sie sich von den vielfältigen Anwendungsfällen inspirieren
 \, die diese bahnbrechende Technologie zu bieten hat!
 &nbsp\;
 Der Vort
 rag beleuchtet 3 Schwerpunkte:- Ein Blick auf aktuelle KI Programme und de
 ren Möglichkeiten.- Gibt es künstliche Kreativität und wie unterscheide
 t sie sich von unserer menschlichen? Welche Möglichkeiten ergeben sich da
 raus - und welche Gefahren?- Einflussfaktoren bei der erfolgreichen Implem
 entierung von KI in die Organisation - Chancen und Risiken.
DTSTART:20240423T170000Z
DTEND:20240423T180000Z
DTSTAMP:20240120T100658Z
ORGANIZER;CN=PMI Germany Chapter e.V.:MAILTO:website@pmi-gc.de
END:VEVENT
END:VCALENDAR