BEGIN:VCALENDAR
VERSION:2.0
PRODID:Events Booking
BEGIN:VEVENT
UID:69e87c072ad74
SUMMARY:Lean-Agile CoP - Inspire / Die Zukunft aktiv selbst gestalten! Souv
 eräner Umgang mit Ungewissheit: Effectuation
DESCRIPTION:
 Lean-Agile CoP&nbsp\;&nbsp\;-&nbsp\;Inspire
 Die Zukunft ak
 tiv selbst gestalten!
 Souveräner Umgang mit Ungewissheit: Effectuation
 
 &nbsp\;
 Projekte sind – da sind sich alle Definitionen mehr oder wen
 iger einig – etwas Einmaliges\, in denen es darum geht\, Neuland zu erku
 nden und etwas zu erschaffen\, das es vorher so noch nicht gab. Da überra
 scht es wenig\, dass unterwegs Überraschungen passieren und man Entscheid
 ungen treffen muss\, auf die man sich nicht perfekt vorbereiten kann. Sowo
 hl traditionelle als auch agile und leane Ansätze zeigen Wege auf\, um mi
 t dieser Dynamik\, Komplexität und Unsicherheit umzugehen. Und manchmal l
 ohnt es sich\, über den Tellerrand (der Projektarbeit) hinauszuschauen\, 
 konkret: Wie machen das eigentlich erfolgreiche Entrepreneure\, die neuart
 ige Produkte für noch gar nicht existierende Märkte innovieren? Und kön
 nen wir etwas davon auf unsere Projekte übertragen?&nbsp\; &nbsp\; &nbsp\
 ;
DTSTART:20250423T170000Z
DTEND:20250423T183000Z
DTSTAMP:20250408T045827Z
ORGANIZER;CN=PMI Germany Chapter e.V.:MAILTO:website@pmi-gc.de
END:VEVENT
END:VCALENDAR