BEGIN:VCALENDAR
VERSION:2.0
PRODID:Events Booking
BEGIN:VEVENT
UID:69e8cfb3570f0
SUMMARY:LG Berlin: Jahresabschluss auf dem Weihnachtsmarkt (Bebelplatz)
DESCRIPTION:Liebe Vereinsmitglieder\,wir möchten das Jahr gemeinsam mit eu
 ch in gemütlicher und festlicher Atmosphäre ausklingen lassen! Dazu lade
 n wir euch herzlich ein zu unserem Jahresabschluss auf dem Weihnachtsmarkt
 :Wann: Donnerstag\, 19. Dezember 2024⏰ Uhrzeit: 17.00 -&nbsp\; 19.30 Uhr
 Wo: WeihnachtsZauber Gendarmenmarkt\, Bebelplatz\, 10117 BerlinIm Zelt der
  \"Ständigen Vertretung\"
LOCATION:Bebelplatz\, Berlin\, 10117\, Deutschland
DTSTART:20241219T160000Z
DTEND:20241219T183000Z
DTSTAMP:20241120T160314Z
ORGANIZER;CN=PMI Germany Chapter e.V.:MAILTO:website@pmi-gc.de
GEO:52.516472;13.393075
X-APPLE-STRUCTURED-LOCATION;VALUE=URI;X-ADDRESS=Bebelplatz\, Berlin\, 10117
 \, Deutschland;X-APPLE-RADIUS=72;X-TITLE=Weihnachtszauber Berlin:52.516472
 ;13.393075
END:VEVENT
END:VCALENDAR