BEGIN:VCALENDAR
VERSION:2.0
PRODID:Events Booking
BEGIN:VEVENT
UID:69e8e49a37e42
SUMMARY:Online event LG Darmstadt : Maximizing ROI Unveiling the Strategic 
 Power of Portfolio Management with Stuart Easton
DESCRIPTION:Stuart Easton is the CEO and co-founder of TransparentChoice\, 
 Stuart is also a speaker and blogger on all things Project Prioritization 
 and Portfolio Governance.
 This workshop explores what’s limiting the R
 OI of your portfolio today and reveals four portfolio management technique
 s that can assist in doubling the strategic impact of portfolio. 
DTSTART:20241106T170000Z
DTEND:20241106T183000Z
DTSTAMP:20240910T073401Z
ORGANIZER;CN=PMI Germany Chapter e.V.:MAILTO:website@pmi-gc.de
END:VEVENT
END:VCALENDAR