BEGIN:VCALENDAR
VERSION:2.0
PRODID:Events Booking
BEGIN:VEVENT
UID:69e90a47ca0e2
SUMMARY:Online event LG Darmstadt: How to pass the PMP in 8 weeks? (with Ga
 bor Stramb)
DESCRIPTION:
 
 Join us for this event\, \"How to Pass the PMP in 8 Weeks
 \,\" with Gabor Stramb\, organized by PMI Germany LG Darmstadt. This sessi
 on will provide essential strategies and insights to help you effectively 
 prepare for and pass the PMP exam. Don’t miss this opportunity to boost 
 your project management career!
 
 
 Questions: LGDarmstadt@pmi-gc.de&n
 bsp\;
DTSTART:20240918T160000Z
DTEND:20240918T173000Z
DTSTAMP:20240724T031512Z
ORGANIZER;CN=PMI Germany Chapter e.V.:MAILTO:website@pmi-gc.de
END:VEVENT
END:VCALENDAR