BEGIN:VCALENDAR
VERSION:2.0
PRODID:Events Booking
BEGIN:VEVENT
UID:69e80a4b81008
SUMMARY:Online event LG Darmstadt: Uncertain Certainty - No Matter what the
  Future Brings with Laura Powers
DESCRIPTION:Discover how organizations build resilience in the face of cons
 tant change. This session unpacks the Business Agility Domains and Capabil
 ities model with real-world stories\, offering leaders practical ways to d
 rive purposeful\, adaptive transformation\, without doing more\, but doing
  things differently.
DTSTART:20250925T160000Z
DTEND:20250925T173000Z
DTSTAMP:20250708T115436Z
ORGANIZER;CN=PMI Germany Chapter e.V.:MAILTO:website@pmi-gc.de
END:VEVENT
END:VCALENDAR