BEGIN:VCALENDAR
VERSION:2.0
PRODID:Events Booking
BEGIN:VEVENT
UID:69e7da005c0b3
SUMMARY:Online event LG Darmstadt - AI in Action: Redefining the Future of 
 Project and Program Management with Markus Kopko
DESCRIPTION:Discover how AI is reshaping the project and program management
  landscape with Markus Kopko. In this forward-thinking session\, explore p
 ractical applications of AI\, ethical integration strategies\, and the evo
 lving skillset required for PMs to thrive in AI-augmented environments. A 
 must-attend for all who want to future-proof their roles.
DTSTART:20251105T170000Z
DTEND:20251105T183000Z
DTSTAMP:20250717T104630Z
ORGANIZER;CN=PMI Germany Chapter e.V.:MAILTO:website@pmi-gc.de
END:VEVENT
END:VCALENDAR