BEGIN:VCALENDAR
VERSION:2.0
PRODID:Events Booking
BEGIN:VEVENT
UID:69e7f35210178
SUMMARY:Local Group Darmstadt Roundtable 36th
DESCRIPTION:PMI Local Group Darmstadt Roundtable #36Monday\, 27 October | 1
 8:00Location: Raum 00.18 Gebäude D19\, Schöfferstraße 10\, Darmstadt\, 
 64295 Hessen\, DeutschlandFree of charge | Earn 2 PDUsLanguage: English (w
 e’re an international group!)
DTSTART:20251027T170000Z
DTEND:20251027T183000Z
DTSTAMP:20250804T101210Z
ORGANIZER;CN=PMI Germany Chapter e.V.:MAILTO:website@pmi-gc.de
END:VEVENT
END:VCALENDAR