BEGIN:VCALENDAR
VERSION:2.0
PRODID:Events Booking
BEGIN:VEVENT
UID:69e80a7555300
SUMMARY:1st English PMI Roundtable – LG Mainz September 2025
DESCRIPTION:1st English PMI Roundtable – Local Group Mainz | September 20
 25Date: Thursday\, 4 September 2025 - Every 1st Thursday of the monthTime:
  18:00–20:00 Location: M-Lounge &amp\; Bar | Hyatt Regency MainzCost: Fr
 ee of charge Earn: Up to 2 PDUs Language: English
LOCATION:Templerstraße\, Mainz\, 55116 Rheinland-Pfalz\, Deutschland
DTSTART:20250904T160000Z
DTEND:20250904T180000Z
DTSTAMP:20250802T055007Z
ORGANIZER;CN=PMI Germany Chapter e.V.:MAILTO:website@pmi-gc.de
GEO:49.996699;8.2812
X-APPLE-STRUCTURED-LOCATION;VALUE=URI;X-ADDRESS=Templerstraße\, Mainz\, 55
 116 Rheinland-Pfalz\, Deutschland;X-APPLE-RADIUS=72;X-TITLE=Hyatt Regency 
 Mainz:49.996699;8.2812
END:VEVENT
END:VCALENDAR