BEGIN:VCALENDAR
VERSION:2.0
PRODID:Events Booking
BEGIN:VEVENT
UID:69e91feb77256
SUMMARY:Local Group Bremen Business Lunch - AI in Project Management\, Spea
 ker: Oliver Wilken
DESCRIPTION:The PMI Local Group Bremen invites you to our online event in E
 nglish on Friday\, August 30th\, 2024&nbsp\;from 12-1PM\, online with Micr
 osoft Teams.
 Topic:
 Artificial Intelligence (AI) in project management
 .
 &nbsp\;
DTSTART:20240830T100000Z
DTEND:20240830T110000Z
DTSTAMP:20240527T132556Z
ORGANIZER;CN=PMI Germany Chapter e.V.:MAILTO:website@pmi-gc.de
END:VEVENT
END:VCALENDAR