BEGIN:VCALENDAR
VERSION:2.0
PRODID:Events Booking
BEGIN:VEVENT
UID:69e8fcbf0f33d
SUMMARY:Local Group Bremen - Lunch & Learn
DESCRIPTION:PMI-Bremen Business lunchwhen? Friday 25 October 2024\, 12:00-1
 4:00where? Q1 Metropolitan Kitchen &amp\; Bar Queerenstr. 1-4\, 28195 Brem
 enwhat? Get together with members of the PMI Bremen Group for a casual lun
 ch to share experiences\, opportunities and a laugh.
DTSTART:20241025T100000Z
DTEND:20241025T120000Z
DTSTAMP:20240527T133132Z
ORGANIZER;CN=PMI Germany Chapter e.V.:MAILTO:website@pmi-gc.de
END:VEVENT
END:VCALENDAR