BEGIN:VCALENDAR
VERSION:2.0
PRODID:Events Booking
BEGIN:VEVENT
UID:69e8a660c8f83
SUMMARY:Local Group Bremen - \"Learn from the best\" - How is Project Manag
 ement executed at Tennet
DESCRIPTION:Die Local Group Bremen lädt ein zur Besprechungsreihe \"Learn 
 from thre best\". Wir werden bei der Firma Tennet in Bremen empfangen und 
 lernen\, wie das Projektmanagement dort durchgeführt wird.
 Unser gesch
 ätztes LG Mitglied Markus Zinterl wird uns darüber berichten.
DTSTART:20250214T110000Z
DTEND:20250214T130000Z
DTSTAMP:20250125T085959Z
ORGANIZER;CN=PMI Germany Chapter e.V.:MAILTO:website@pmi-gc.de
END:VEVENT
END:VCALENDAR