BEGIN:VCALENDAR
VERSION:2.0
PRODID:Events Booking
BEGIN:VEVENT
UID:69e7da297cb25
SUMMARY:Local Group Bremen - Lunch and Learn
DESCRIPTION:We're excited to announce our next hashtag#lunch meetup in hash
 tag#Bremen\, where you'll have the chance to connect with fellow PMI membe
 rs and industry experts!
DTSTART:20251121T110000Z
DTEND:20251121T120000Z
DTSTAMP:20250916T122205Z
ORGANIZER;CN=PMI Germany Chapter e.V.:MAILTO:website@pmi-gc.de
END:VEVENT
END:VCALENDAR