BEGIN:VCALENDAR
VERSION:2.0
PRODID:Events Booking
BEGIN:VEVENT
UID:69e8d04c5cd7a
SUMMARY:Local Group Bremen meets at Christmas Market - Year End Celebration
DESCRIPTION:Year end celebration with Glühwein and Feuerzangenbowle at the
  christmas market in Bremen. We meet at 6PM at the Bremer Stadtmusikanten
DTSTART:20241213T170000Z
DTEND:20241213T200000Z
DTSTAMP:20240527T133608Z
ORGANIZER;CN=PMI Germany Chapter e.V.:MAILTO:website@pmi-gc.de
END:VEVENT
END:VCALENDAR