BEGIN:VCALENDAR
VERSION:2.0
PRODID:Events Booking
BEGIN:VEVENT
UID:69e86a2b4acb7
SUMMARY:Local Group Bremen meets the new Polarstern PMO
DESCRIPTION:Die PMI Local Group Bremen besucht das PMO des Polastern im Alf
 red-Wegener-Institut (AWI) in Bremerhaven.Unser Mitglied Johannes Kühl\, 
 Leiter des Projekmanagement Office neuer Polarstern\, wird über das PMO b
 erichten und einen Einblick in die Arbeit vor Ort geben.
DTSTART:20250509T090000Z
DTEND:20250509T110000Z
DTSTAMP:20250404T111143Z
ORGANIZER;CN=PMI Germany Chapter e.V.:MAILTO:website@pmi-gc.de
END:VEVENT
END:VCALENDAR