BEGIN:VCALENDAR
VERSION:2.0
PRODID:Events Booking
BEGIN:VEVENT
UID:69e95b16813e7
SUMMARY:Local Group Bremen Roundtable / Stammtisch Lokalgruppe Bremen
DESCRIPTION:Local Group Bremen Roundtable - Save the date.
 We will meet o
 ver lunch and discuss a topic that we will chose by proposal.
 Treffpunkt
 :
 Raum Hoger bei BAB Lab
 Adresse:&nbsp\;Bischofsnadel 6\, 28195 Bremen
LOCATION:Bischofsnadel 6\, Bremen\, 28195 Freie Hansestadt Bremen\, Deutsch
 land
DTSTART:20240524T100000Z
DTEND:20240524T120000Z
DTSTAMP:20240226T123327Z
ORGANIZER;CN=PMI Germany Chapter e.V.:MAILTO:website@pmi-gc.de
GEO:53.076834;8.811251
X-APPLE-STRUCTURED-LOCATION;VALUE=URI;X-ADDRESS=Bischofsnadel 6\, Bremen\, 
 28195 Freie Hansestadt Bremen\, Deutschland;X-APPLE-RADIUS=72;X-TITLE=BAB 
 Lab:53.076834;8.811251
END:VEVENT
END:VCALENDAR