BEGIN:VCALENDAR
VERSION:2.0
PRODID:Events Booking
BEGIN:VEVENT
UID:69e89201bcb1a
SUMMARY:Local Group Darmstadt Roundtable 30th
DESCRIPTION:IMPORTANT CHANGE OF LOCATION: on 24.03 at Karlson Restaurant\, 
 Am Fürstenbahnhof 3-4\, 64293 Darmstadt
 30th onside meeting of the Loca
 l Group Darmstadt. As we are an international team\, the language is Engli
 sh.
 Location:  Karlson Restaurant\, Am Fürstenbahnhof 3-4\, 64293 Darms
 tadt&nbsp\;Hochschule Darmstadt\, Room 00.18\, Building D19\, Schöfferstr
 aße 10Cost: Free of charge\, 2 PDUs
 AGENDA
 
 Roundtable
 Discuss a 
 topic together
 Feel free to also bring your own questions / topic of int
 erest (BYOQ)
DTSTART:20250324T170000Z
DTEND:20250324T190000Z
DTSTAMP:20241219T170428Z
ORGANIZER;CN=PMI Germany Chapter e.V.:MAILTO:website@pmi-gc.de
END:VEVENT
END:VCALENDAR