BEGIN:VCALENDAR
VERSION:2.0
PRODID:Events Booking
BEGIN:VEVENT
UID:69e80b47f28e3
SUMMARY:PMI GC Rheinland and Deutsche Telekom Technik: AI4PM
DESCRIPTION:Artificial intelligence has become a natural part of our busine
 ss lives\, and we’re also exploring its potential more and more in our p
 ersonal lives. We’re fascinated by the evolution of AI tools and the spe
 ed with which LLMs can generate text\, create visuals\, and sketch out com
 plex scenarios.
 But does all this speed and technological brilliance hel
 p us live up to our ambition – to collaborate more effectively in our pr
 oject teams\, to become more focused\, more efficient\, and ultimately\, b
 etter at what we do? We’re taking on this question on September 9\, 2025
 \, together with Deutsche Telekom Technik GmbH in Bonn.
 Die Nutzung von 
 künstlicher Intelligenz ist im Business-Alltag längst angekommen – und
  auch privat erkunden wir immer mehr Möglichkeiten. Wir sind fasziniert v
 on der Weiterentwicklung der Tools\, der Geschwindigkeit\, mit der LLMs Te
 xte erstellen\, Bilder gestalten und komplexe Szenarien skizzieren.&nbsp\;
 Doch hilft uns all das wirklich weiter in unserem Anspruch\, die Zusammena
 rbeit in unseren Projektteams produktiver\, effizienter zu gestalten - und
  darin\, immer besser zu werden? Dieser Frage stellen wir uns am 09.09.25 
 - gemeinsam mit&nbsp\; Telekom Technik GmbH in Bonn.
 &nbsp\;
 &nbsp\;
LOCATION:Landgrabenweg 149\, Bonn\, 53227 Nordrhein-Westfalen\, Deutschland
DTSTART:20250909T160000Z
DTEND:20250909T190000Z
DTSTAMP:20250306T185454Z
ORGANIZER;CN=PMI Germany Chapter e.V.:MAILTO:website@pmi-gc.de
GEO:50.722338;7.14357
X-APPLE-STRUCTURED-LOCATION;VALUE=URI;X-ADDRESS=Landgrabenweg 149\, Bonn\, 
 53227 Nordrhein-Westfalen\, Deutschland;X-APPLE-RADIUS=72;X-TITLE=Deutsche
  Telekom Campus\, 53227 Bonn\, Landgrabenweg 149:50.722338;7.14357
END:VEVENT
END:VCALENDAR