BEGIN:VCALENDAR
VERSION:2.0
PRODID:Events Booking
BEGIN:VEVENT
UID:69e90a95ca0a7
SUMMARY:LG Ruhrgebiet @ GNS - Projektmanagement im nuklearen Rückbau
DESCRIPTION:Projektmanagement ist in allen Bereichen von großer Bedeutung\
 , doch insbesondere im nuklearen Rückbau kommen zusätzliche Herausforder
 ungen und spezifische Anforderungen hinzu. Bei diesem Event werden wir uns
  intensiv mit den Besonderheiten des Projektmanagements in diesem sensible
 n Bereich auseinandersetzen und praktische Einblicke in die Arbeit der GNS
  Gesellschaft für Nuklear-Service mbH gewinnen.Ziel des AbendsDas Ziel di
 eses Abends ist es\, basierend auf realen Projekten\, ein tiefes Verständ
 nis für die Herausforderungen und Best Practices im Projektmanagement des
  nuklearen Rückbaus zu entwickeln. Wir werden untersuchen\, welche spezif
 ischen Methoden und Werkzeuge hier besonders wichtig sind und wie das PMO 
 (Projektmanagement Office) bei GNS einen entscheidenden Mehrwert schafft.
DTSTART:20240910T160000Z
DTEND:20240910T180000Z
DTSTAMP:20240825T142006Z
ORGANIZER;CN=PMI Germany Chapter e.V.:MAILTO:website@pmi-gc.de
END:VEVENT
END:VCALENDAR