BEGIN:VCALENDAR
VERSION:2.0
PRODID:Events Booking
BEGIN:VEVENT
UID:69e8d002e2bb6
SUMMARY:LG Leipzig: Meetings effektiver führen und protokollieren
DESCRIPTION:Die Local Group Leipzig lädt ein zu einem interaktiven Vortrag
 
 “ Meetings effektiver führen und protokollieren.“
 Meetings sind 
 der Zeitfresser Nummer Eins in vielen Unternehmen. Wie kann also ein Meeti
 ng spannender\, intensiver\, kürzer gehalten werden? Und was passiert mit
  den Inhalten danach? Wie wird protokolliert\, verteilt\, nachgehalten?Nac
 h einem kurzen Impulsreferat von Ingolf Speer\, Leiter der PMI Local Group
  Leipzig geht es in die Diskussion. Die Teilnehmer:innen sind angehalten\,
  eigene Erlebnisse aus ihrem Meetingleben mitzubringen und gute wie wenige
 r gute Erfahrungen zu teilen. Ebenso können (anonymisierte) Protokolle au
 s realen Besprechungen mitgebracht werden. Gemeinsam schauen wie drauf\, w
 o und wie diese zu optimieren sind.
DTSTART:20241210T170000Z
DTEND:20241210T190000Z
DTSTAMP:20241001T114410Z
ORGANIZER;CN=PMI Germany Chapter e.V.:MAILTO:website@pmi-gc.de
END:VEVENT
END:VCALENDAR