BEGIN:VCALENDAR
VERSION:2.0
PRODID:Events Booking
BEGIN:VEVENT
UID:69e7d9a868747
SUMMARY:Mentoring Program: Feedback and official closing session
DESCRIPTION:
DTSTART:20251118T180000Z
DTEND:20251118T190000Z
DTSTAMP:20250430T145628Z
ORGANIZER;CN=PMI Germany Chapter e.V.:MAILTO:website@pmi-gc.de
END:VEVENT
END:VCALENDAR