BEGIN:VCALENDAR
VERSION:2.0
PRODID:Events Booking
BEGIN:VEVENT
UID:69e86315bc786
SUMMARY:Mentoring Program: Kick-Off Session
DESCRIPTION:
DTSTART:20250506T170000Z
DTEND:20250506T180000Z
DTSTAMP:20250430T040246Z
ORGANIZER;CN=PMI Germany Chapter e.V.:MAILTO:website@pmi-gc.de
END:VEVENT
END:VCALENDAR