BEGIN:VCALENDAR
VERSION:2.0
PRODID:Events Booking
BEGIN:VEVENT
UID:69e80950bf105
SUMMARY:Mentoring Program: Networking Session 2
DESCRIPTION:
DTSTART:20250930T170000Z
DTEND:20250930T180000Z
DTSTAMP:20250430T145316Z
ORGANIZER;CN=PMI Germany Chapter e.V.:MAILTO:website@pmi-gc.de
END:VEVENT
END:VCALENDAR