BEGIN:VCALENDAR
VERSION:2.0
PRODID:Events Booking
BEGIN:VEVENT
UID:69e8682039193
SUMMARY:Mentoring Program: Session for new Mentors
DESCRIPTION:
DTSTART:20250521T170000Z
DTEND:20250521T180000Z
DTSTAMP:20250430T035426Z
ORGANIZER;CN=PMI Germany Chapter e.V.:MAILTO:website@pmi-gc.de
END:VEVENT
END:VCALENDAR